Package: pcaExplorer Version: 3.4.0 Command: /Library/Frameworks/R.framework/Resources/bin/R CMD INSTALL pcaExplorer StartedAt: 2025-10-29 22:29:25 -0400 (Wed, 29 Oct 2025) EndedAt: 2025-10-29 22:30:39 -0400 (Wed, 29 Oct 2025) EllapsedTime: 74.0 seconds RetCode: 0 Status: OK