Package: pcaExplorer Version: 3.3.0 Command: /Library/Frameworks/R.framework/Resources/bin/R CMD build --keep-empty-dirs --no-resave-data pcaExplorer StartedAt: 2025-10-28 18:09:36 -0400 (Tue, 28 Oct 2025) EndedAt: 2025-10-28 18:12:34 -0400 (Tue, 28 Oct 2025) EllapsedTime: 178.0 seconds RetCode: 0 Status: OK PackageFile: pcaExplorer_3.3.0.tar.gz PackageFileSize: 10.74 MiB