Package: pcaExplorer Version: 3.3.0 Command: /Library/Frameworks/R.framework/Resources/bin/R CMD INSTALL pcaExplorer StartedAt: 2025-10-27 15:26:10 -0400 (Mon, 27 Oct 2025) EndedAt: 2025-10-27 15:26:33 -0400 (Mon, 27 Oct 2025) EllapsedTime: 23.0 seconds RetCode: 0 Status: OK