Package: pathwayPCA Version: 1.26.0 Command: /Library/Frameworks/R.framework/Resources/bin/R CMD build --keep-empty-dirs --no-resave-data pathwayPCA StartedAt: 2025-11-02 18:13:42 -0500 (Sun, 02 Nov 2025) EndedAt: 2025-11-02 18:17:33 -0500 (Sun, 02 Nov 2025) EllapsedTime: 230.6 seconds RetCode: 0 Status: OK PackageFile: pathwayPCA_1.26.0.tar.gz PackageFileSize: 3.477 MiB