Package: pathwayPCA Version: 1.25.0 Command: /Library/Frameworks/R.framework/Resources/bin/R CMD build --keep-empty-dirs --no-resave-data pathwayPCA StartedAt: 2025-10-24 17:19:54 -0400 (Fri, 24 Oct 2025) EndedAt: 2025-10-24 17:21:01 -0400 (Fri, 24 Oct 2025) EllapsedTime: 66.8 seconds RetCode: 0 Status: OK PackageFile: pathwayPCA_1.25.0.tar.gz PackageFileSize: 3.478 MiB