Package: pathview Version: 1.49.0 Command: /home/biocbuild/bbs-3.22-bioc/R/bin/R CMD INSTALL pathview StartedAt: 2025-10-24 15:36:38 -0400 (Fri, 24 Oct 2025) EndedAt: 2025-10-24 15:36:54 -0400 (Fri, 24 Oct 2025) EllapsedTime: 16.8 seconds RetCode: 0 Status: OK