Package: pathlinkR Version: 1.5.3 Command: /home/biocbuild/bbs-3.22-bioc/R/bin/R CMD build --keep-empty-dirs --no-resave-data --md5 pathlinkR StartedAt: 2025-10-24 19:22:37 -0400 (Fri, 24 Oct 2025) EndedAt: 2025-10-24 19:26:07 -0400 (Fri, 24 Oct 2025) EllapsedTime: 210.2 seconds RetCode: 0 Status: OK PackageFile: pathlinkR_1.5.3.tar.gz PackageFileSize: 4.573 MiB