Package: pathlinkR Version: 1.5.3 Command: /Library/Frameworks/R.framework/Resources/bin/R CMD build --keep-empty-dirs --no-resave-data pathlinkR StartedAt: 2025-10-24 17:19:23 -0400 (Fri, 24 Oct 2025) EndedAt: 2025-10-24 17:20:49 -0400 (Fri, 24 Oct 2025) EllapsedTime: 86.0 seconds RetCode: 0 Status: OK PackageFile: pathlinkR_1.5.3.tar.gz PackageFileSize: 4.742 MiB