Package: pathlinkR Version: 1.5.3 Command: rm -rf pathlinkR.buildbin-libdir && mkdir pathlinkR.buildbin-libdir && /Users/biocbuild/BBS/utils/build-universal.sh pathlinkR_1.5.3.tar.gz /Library/Frameworks/R.framework/Resources/bin/R pathlinkR.buildbin-libdir StartedAt: 2025-10-24 23:13:41 -0400 (Fri, 24 Oct 2025) EndedAt: 2025-10-24 23:13:49 -0400 (Fri, 24 Oct 2025) EllapsedTime: 7.2 seconds RetCode: 0 Status: OK PackageFile: pathlinkR_1.5.3.tgz PackageFileSize: 4.875 MiB