Package: pathifier Version: 1.47.0 Command: /Library/Frameworks/R.framework/Resources/bin/R CMD INSTALL pathifier StartedAt: 2025-10-27 15:06:04 -0400 (Mon, 27 Oct 2025) EndedAt: 2025-10-27 15:07:08 -0400 (Mon, 27 Oct 2025) EllapsedTime: 64.0 seconds RetCode: 0 Status: OK