Package: pathifier Version: 1.47.0 Command: rm -rf pathifier.buildbin-libdir && mkdir pathifier.buildbin-libdir && /Users/biocbuild/BBS/utils/build-universal.sh pathifier_1.47.0.tar.gz /Library/Frameworks/R.framework/Resources/bin/R pathifier.buildbin-libdir StartedAt: 2025-10-25 01:55:07 -0400 (Sat, 25 Oct 2025) EndedAt: 2025-10-25 01:55:13 -0400 (Sat, 25 Oct 2025) EllapsedTime: 5.8 seconds RetCode: 0 Status: OK PackageFile: pathifier_1.47.0.tgz PackageFileSize: 2.057 MiB