Package: pathifier Version: 1.47.0 Command: /Library/Frameworks/R.framework/Resources/bin/R CMD INSTALL pathifier StartedAt: 2025-10-24 15:06:00 -0400 (Fri, 24 Oct 2025) EndedAt: 2025-10-24 15:06:07 -0400 (Fri, 24 Oct 2025) EllapsedTime: 6.6 seconds RetCode: 0 Status: OK