Package: pathRender Version: 1.78.0 Command: /home/biocbuild/bbs-3.22-bioc/R/bin/R CMD check --install=check:pathRender.install-out.txt --library=/home/biocbuild/bbs-3.22-bioc/R/site-library --timings pathRender_1.78.0.tar.gz StartedAt: 2025-10-31 02:31:03 -0400 (Fri, 31 Oct 2025) EndedAt: 2025-10-31 02:33:22 -0400 (Fri, 31 Oct 2025) EllapsedTime: 138.2 seconds RetCode: 0 Status: OK CheckDir: pathRender.Rcheck Warnings: 0