Package: pathRender Version: 1.77.0 Command: /Library/Frameworks/R.framework/Resources/bin/R CMD INSTALL pathRender StartedAt: 2025-10-24 15:33:48 -0400 (Fri, 24 Oct 2025) EndedAt: 2025-10-24 15:34:05 -0400 (Fri, 24 Oct 2025) EllapsedTime: 17.4 seconds RetCode: 0 Status: OK