Package: pathRender Version: 1.77.0 Command: /Library/Frameworks/R.framework/Resources/bin/R CMD build --keep-empty-dirs --no-resave-data pathRender StartedAt: 2025-10-24 18:12:01 -0400 (Fri, 24 Oct 2025) EndedAt: 2025-10-24 18:13:00 -0400 (Fri, 24 Oct 2025) EllapsedTime: 58.8 seconds RetCode: 0 Status: OK PackageFile: pathRender_1.77.0.tar.gz PackageFileSize: 300.9 KiB