Package: pathRender Version: 1.77.0 Command: rm -rf pathRender.buildbin-libdir && mkdir pathRender.buildbin-libdir && /Users/biocbuild/BBS/utils/build-universal.sh pathRender_1.77.0.tar.gz /Library/Frameworks/R.framework/Resources/bin/R pathRender.buildbin-libdir StartedAt: 2025-10-24 23:13:42 -0400 (Fri, 24 Oct 2025) EndedAt: 2025-10-24 23:13:49 -0400 (Fri, 24 Oct 2025) EllapsedTime: 6.1 seconds RetCode: 0 Status: OK PackageFile: pathRender_1.77.0.tgz PackageFileSize: 356.9 KiB