Package: pathMED Version: 1.1.6 Command: /home/biocbuild/bbs-3.22-bioc/R/bin/R CMD INSTALL pathMED StartedAt: 2025-10-24 16:07:06 -0400 (Fri, 24 Oct 2025) EndedAt: 2025-10-24 16:07:20 -0400 (Fri, 24 Oct 2025) EllapsedTime: 13.1 seconds RetCode: 0 Status: OK