Package: pathMED Version: 1.1.6 Command: /home/biocbuild/bbs-3.22-bioc/R/bin/R CMD build --keep-empty-dirs --no-resave-data --md5 pathMED StartedAt: 2025-10-24 19:22:41 -0400 (Fri, 24 Oct 2025) EndedAt: 2025-10-24 19:23:56 -0400 (Fri, 24 Oct 2025) EllapsedTime: 75.1 seconds RetCode: 0 Status: OK PackageFile: pathMED_1.1.6.tar.gz PackageFileSize: 6.345 MiB