Package: parody Version: 1.68.0 Command: /home/biocbuild/bbs-3.22-bioc/R/bin/R CMD INSTALL parody StartedAt: 2025-11-17 16:44:44 -0500 (Mon, 17 Nov 2025) EndedAt: 2025-11-17 16:44:46 -0500 (Mon, 17 Nov 2025) EllapsedTime: 2.1 seconds RetCode: 0 Status: OK