Package: panelcn.mops Version: 1.31.2 Command: /home/biocbuild/bbs-3.22-bioc/R/bin/R CMD INSTALL panelcn.mops StartedAt: 2025-10-24 15:45:03 -0400 (Fri, 24 Oct 2025) EndedAt: 2025-10-24 15:45:16 -0400 (Fri, 24 Oct 2025) EllapsedTime: 12.8 seconds RetCode: 0 Status: OK