Package: panelcn.mops Version: 1.31.2 Command: /Library/Frameworks/R.framework/Resources/bin/R CMD build --keep-empty-dirs --no-resave-data panelcn.mops StartedAt: 2025-10-24 17:18:54 -0400 (Fri, 24 Oct 2025) EndedAt: 2025-10-24 17:19:13 -0400 (Fri, 24 Oct 2025) EllapsedTime: 19.2 seconds RetCode: 0 Status: OK PackageFile: panelcn.mops_1.31.2.tar.gz PackageFileSize: 608.7 KiB