Package: pandaR Version: 1.41.0 Command: /Library/Frameworks/R.framework/Resources/bin/R CMD INSTALL pandaR StartedAt: 2025-10-24 15:09:35 -0400 (Fri, 24 Oct 2025) EndedAt: 2025-10-24 15:09:38 -0400 (Fri, 24 Oct 2025) EllapsedTime: 3.6 seconds RetCode: 0 Status: OK