Package: pandaR Version: 1.41.0 Command: /Library/Frameworks/R.framework/Resources/bin/R CMD build --keep-empty-dirs --no-resave-data pandaR StartedAt: 2025-10-24 17:18:50 -0400 (Fri, 24 Oct 2025) EndedAt: 2025-10-24 17:19:09 -0400 (Fri, 24 Oct 2025) EllapsedTime: 19.2 seconds RetCode: 0 Status: OK PackageFile: pandaR_1.41.0.tar.gz PackageFileSize: 8.684 MiB