Package: pairedGSEA Version: 1.9.0 Command: /home/biocbuild/bbs-3.22-bioc/R/bin/R CMD INSTALL pairedGSEA StartedAt: 2025-10-24 15:45:00 -0400 (Fri, 24 Oct 2025) EndedAt: 2025-10-24 15:45:34 -0400 (Fri, 24 Oct 2025) EllapsedTime: 33.7 seconds RetCode: 0 Status: OK