Package: paircompviz Version: 1.48.0 Command: /Library/Frameworks/R.framework/Resources/bin/R CMD build --keep-empty-dirs --no-resave-data paircompviz StartedAt: 2025-11-02 18:10:50 -0500 (Sun, 02 Nov 2025) EndedAt: 2025-11-02 18:11:30 -0500 (Sun, 02 Nov 2025) EllapsedTime: 39.8 seconds RetCode: 0 Status: OK PackageFile: paircompviz_1.48.0.tar.gz PackageFileSize: 351.9 KiB