Package: paircompviz Version: 1.47.0 Command: /Library/Frameworks/R.framework/Resources/bin/R CMD INSTALL paircompviz StartedAt: 2025-10-24 15:11:00 -0400 (Fri, 24 Oct 2025) EndedAt: 2025-10-24 15:11:02 -0400 (Fri, 24 Oct 2025) EllapsedTime: 2.2 seconds RetCode: 0 Status: OK