Package: paircompviz Version: 1.47.0 Command: /Library/Frameworks/R.framework/Resources/bin/R CMD build --keep-empty-dirs --no-resave-data paircompviz StartedAt: 2025-10-24 17:18:39 -0400 (Fri, 24 Oct 2025) EndedAt: 2025-10-24 17:18:50 -0400 (Fri, 24 Oct 2025) EllapsedTime: 11.1 seconds RetCode: 0 Status: OK PackageFile: paircompviz_1.47.0.tar.gz PackageFileSize: 354.1 KiB