Package: pageRank Version: 1.19.0 Command: /home/biocbuild/bbs-3.22-bioc/R/bin/R CMD INSTALL pageRank StartedAt: 2025-10-24 16:04:38 -0400 (Fri, 24 Oct 2025) EndedAt: 2025-10-24 16:05:16 -0400 (Fri, 24 Oct 2025) EllapsedTime: 37.7 seconds RetCode: 0 Status: OK