Package: pageRank Version: 1.19.0 Command: /home/biocbuild/bbs-3.22-bioc/R/bin/R CMD build --keep-empty-dirs --no-resave-data --md5 pageRank StartedAt: 2025-10-24 19:20:28 -0400 (Fri, 24 Oct 2025) EndedAt: 2025-10-24 19:22:21 -0400 (Fri, 24 Oct 2025) EllapsedTime: 112.1 seconds RetCode: 0 Status: OK PackageFile: pageRank_1.19.0.tar.gz PackageFileSize: 123.6 KiB