Package: padma Version: 1.20.0 Command: /home/biocbuild/bbs-3.22-bioc/R/bin/R CMD INSTALL padma StartedAt: 2025-11-06 15:21:44 -0500 (Thu, 06 Nov 2025) EndedAt: 2025-11-06 15:22:11 -0500 (Thu, 06 Nov 2025) EllapsedTime: 27.6 seconds RetCode: 0 Status: OK