Package: padma Version: 1.20.0 Command: /home/biocbuild/bbs-3.22-bioc/R/bin/R CMD build --keep-empty-dirs --no-resave-data --md5 padma StartedAt: 2025-11-06 19:11:22 -0500 (Thu, 06 Nov 2025) EndedAt: 2025-11-06 19:12:17 -0500 (Thu, 06 Nov 2025) EllapsedTime: 55.0 seconds RetCode: 0 Status: OK PackageFile: padma_1.20.0.tar.gz PackageFileSize: 1.384 MiB