Package: packFinder Version: 1.21.0 Command: /home/biocbuild/bbs-3.22-bioc/R/bin/R CMD build --keep-empty-dirs --no-resave-data --md5 packFinder StartedAt: 2025-10-27 19:11:30 -0400 (Mon, 27 Oct 2025) EndedAt: 2025-10-27 19:11:41 -0400 (Mon, 27 Oct 2025) EllapsedTime: 11.0 seconds RetCode: 0 Status: OK PackageFile: packFinder_1.21.0.tar.gz PackageFileSize: 1.151 MiB