Package: pRolocGUI Version: 2.19.0 Command: /home/biocbuild/bbs-3.22-bioc/R/bin/R CMD INSTALL pRolocGUI StartedAt: 2025-10-27 15:45:42 -0400 (Mon, 27 Oct 2025) EndedAt: 2025-10-27 15:46:35 -0400 (Mon, 27 Oct 2025) EllapsedTime: 52.7 seconds RetCode: 0 Status: OK