Package: pRolocGUI Version: 2.19.0 Command: /home/biocbuild/bbs-3.22-bioc/R/bin/R CMD check --install=check:pRolocGUI.install-out.txt --library=/home/biocbuild/bbs-3.22-bioc/R/site-library --timings pRolocGUI_2.19.0.tar.gz StartedAt: 2025-10-25 02:57:58 -0400 (Sat, 25 Oct 2025) EndedAt: 2025-10-25 03:04:40 -0400 (Sat, 25 Oct 2025) EllapsedTime: 402.4 seconds RetCode: 0 Status: OK CheckDir: pRolocGUI.Rcheck Warnings: 0