Package: pRolocGUI Version: 2.19.0 Command: /Library/Frameworks/R.framework/Resources/bin/R CMD INSTALL pRolocGUI StartedAt: 2025-10-24 15:47:32 -0400 (Fri, 24 Oct 2025) EndedAt: 2025-10-24 15:48:44 -0400 (Fri, 24 Oct 2025) EllapsedTime: 72.0 seconds RetCode: 0 Status: OK