Package: pRolocGUI Version: 2.19.0 Command: /Library/Frameworks/R.framework/Resources/bin/R CMD build --keep-empty-dirs --no-resave-data pRolocGUI StartedAt: 2025-10-24 18:19:24 -0400 (Fri, 24 Oct 2025) EndedAt: 2025-10-24 18:20:47 -0400 (Fri, 24 Oct 2025) EllapsedTime: 82.4 seconds RetCode: 0 Status: OK PackageFile: pRolocGUI_2.19.0.tar.gz PackageFileSize: 2.991 MiB