Package: pRolocGUI Version: 2.19.0 Command: /Library/Frameworks/R.framework/Resources/bin/R CMD INSTALL pRolocGUI StartedAt: 2025-10-27 15:22:30 -0400 (Mon, 27 Oct 2025) EndedAt: 2025-10-27 15:22:52 -0400 (Mon, 27 Oct 2025) EllapsedTime: 21.9 seconds RetCode: 0 Status: OK