Package: pRolocGUI Version: 2.19.0 Command: rm -rf pRolocGUI.buildbin-libdir && mkdir pRolocGUI.buildbin-libdir && /Users/biocbuild/BBS/utils/build-universal.sh pRolocGUI_2.19.0.tar.gz /Library/Frameworks/R.framework/Resources/bin/R pRolocGUI.buildbin-libdir StartedAt: 2025-10-26 22:44:39 -0400 (Sun, 26 Oct 2025) EndedAt: 2025-10-26 22:45:01 -0400 (Sun, 26 Oct 2025) EllapsedTime: 22.5 seconds RetCode: 0 Status: OK PackageFile: pRolocGUI_2.19.0.tgz PackageFileSize: 1.775 MiB