Package: pRoloc Version: 1.50.0 Command: /home/biocbuild/bbs-3.22-bioc/R/bin/R CMD check --install=check:pRoloc.install-out.txt --library=/home/biocbuild/bbs-3.22-bioc/R/site-library --timings pRoloc_1.50.0.tar.gz StartedAt: 2025-10-30 09:14:54 -0400 (Thu, 30 Oct 2025) EndedAt: 2025-10-30 09:28:16 -0400 (Thu, 30 Oct 2025) EllapsedTime: 801.8 seconds RetCode: 0 Status: WARNINGS CheckDir: pRoloc.Rcheck Warnings: 3