Package: pRoloc Version: 1.49.3 Command: /home/biocbuild/bbs-3.22-bioc/R/bin/R CMD build --keep-empty-dirs --no-resave-data --md5 pRoloc StartedAt: 2025-10-27 19:24:05 -0400 (Mon, 27 Oct 2025) EndedAt: 2025-10-27 19:27:56 -0400 (Mon, 27 Oct 2025) EllapsedTime: 230.2 seconds RetCode: 0 Status: OK PackageFile: pRoloc_1.49.3.tar.gz PackageFileSize: 10.81 MiB