Package: pRoloc Version: 1.49.3 Command: /Library/Frameworks/R.framework/Resources/bin/R CMD INSTALL pRoloc StartedAt: 2025-10-24 15:45:39 -0400 (Fri, 24 Oct 2025) EndedAt: 2025-10-24 15:47:29 -0400 (Fri, 24 Oct 2025) EllapsedTime: 110.2 seconds RetCode: 0 Status: OK