Package: pRoloc Version: 1.49.3 Command: /Library/Frameworks/R.framework/Resources/bin/R CMD build --keep-empty-dirs --no-resave-data pRoloc StartedAt: 2025-10-24 18:19:23 -0400 (Fri, 24 Oct 2025) EndedAt: 2025-10-24 18:23:46 -0400 (Fri, 24 Oct 2025) EllapsedTime: 262.9 seconds RetCode: 0 Status: OK PackageFile: pRoloc_1.49.3.tar.gz PackageFileSize: 10.95 MiB