Package: pRoloc Version: 1.49.3 Command: rm -rf pRoloc.buildbin-libdir && mkdir pRoloc.buildbin-libdir && /Users/biocbuild/BBS/utils/build-universal.sh pRoloc_1.49.3.tar.gz /Library/Frameworks/R.framework/Resources/bin/R pRoloc.buildbin-libdir StartedAt: 2025-10-25 01:56:42 -0400 (Sat, 25 Oct 2025) EndedAt: 2025-10-25 01:58:37 -0400 (Sat, 25 Oct 2025) EllapsedTime: 115.3 seconds RetCode: 0 Status: OK PackageFile: pRoloc_1.49.3.tgz PackageFileSize: 10.27 MiB