Package: pRoloc Version: 1.49.3 Command: /Library/Frameworks/R.framework/Resources/bin/R CMD INSTALL pRoloc StartedAt: 2025-10-26 15:19:58 -0400 (Sun, 26 Oct 2025) EndedAt: 2025-10-26 15:20:28 -0400 (Sun, 26 Oct 2025) EllapsedTime: 30.1 seconds RetCode: 0 Status: OK