Package: pRoloc Version: 1.49.3 Command: /Library/Frameworks/R.framework/Resources/bin/R CMD build --keep-empty-dirs --no-resave-data pRoloc StartedAt: 2025-10-26 17:35:12 -0400 (Sun, 26 Oct 2025) EndedAt: 2025-10-26 17:36:33 -0400 (Sun, 26 Oct 2025) EllapsedTime: 80.9 seconds RetCode: 0 Status: OK PackageFile: pRoloc_1.49.3.tar.gz PackageFileSize: 10.95 MiB