Package: pRoloc Version: 1.49.3 Maintainer: Lisa Breckels MaintainerEmail: lms79 at cam.ac.uk git_url: https://git.bioconductor.org/packages/pRoloc git_branch: devel git_last_commit: e57c71b git_last_commit_date: 2025-10-22 17:47:51 -0400 (Wed, 22 Oct 2025)