Package: orthos Version: 1.7.4 Command: /home/biocbuild/bbs-3.22-bioc/R/bin/R CMD build --keep-empty-dirs --no-resave-data --md5 orthos StartedAt: 2025-10-24 19:17:25 -0400 (Fri, 24 Oct 2025) EndedAt: 2025-10-24 19:21:34 -0400 (Fri, 24 Oct 2025) EllapsedTime: 249.3 seconds RetCode: 0 Status: OK PackageFile: orthos_1.7.4.tar.gz PackageFileSize: 2.881 MiB