Package: optimalFlow Version: 1.21.0 Command: /home/biocbuild/bbs-3.22-bioc/R/bin/R CMD INSTALL optimalFlow StartedAt: 2025-10-24 15:24:25 -0400 (Fri, 24 Oct 2025) EndedAt: 2025-10-24 15:24:41 -0400 (Fri, 24 Oct 2025) EllapsedTime: 15.9 seconds RetCode: 0 Status: OK