Package: optimalFlow Version: 1.22.0 Command: /home/biocbuild/bbs-3.22-bioc/R/bin/R CMD check --install=check:optimalFlow.install-out.txt --library=/home/biocbuild/bbs-3.22-bioc/R/site-library --timings optimalFlow_1.22.0.tar.gz StartedAt: 2025-11-01 02:28:18 -0400 (Sat, 01 Nov 2025) EndedAt: 2025-11-01 02:39:15 -0400 (Sat, 01 Nov 2025) EllapsedTime: 656.9 seconds RetCode: 0 Status: OK CheckDir: optimalFlow.Rcheck Warnings: 0