Package: optimalFlow Version: 1.21.0 Command: /home/biocbuild/bbs-3.22-bioc/R/bin/R CMD build --keep-empty-dirs --no-resave-data --md5 optimalFlow StartedAt: 2025-10-24 19:16:17 -0400 (Fri, 24 Oct 2025) EndedAt: 2025-10-24 19:22:37 -0400 (Fri, 24 Oct 2025) EllapsedTime: 379.5 seconds RetCode: 0 Status: OK PackageFile: optimalFlow_1.21.0.tar.gz PackageFileSize: 1.32 MiB